Workbook
Name Scores: 'A2 Outputs 1-5'!$E$13:$E$19

Sheet A1 Goal, Purpose, Risk
A1: Annual Review: Fiscal and Administrative Decentralisation of Social Care Services Project in Kosovo
A3: ARIES Project Code | C3: 200857
A4: ARIES Project Description | C4: Fiscal and Administrative Decentralisation of Social Care Services in Kosovo
A6: A1: Goal, Purpose, Risk
A7: Goal
A8: Goal statement | C8: Municipalities are capable of meeting the highest priority social care service needs of their residents
A9: Indicator 1 | C9: Assessment of the extent to which highest priority social care service needs are met, including gender and ethnicity breakdown
A10: Milestone for this review (if any) | C10: n/a
A11: What progress has been made in the period covered by this review? | C11: Still early in the decentralisation process. Municipalities still in early stages of developing their own understanding of what the social care services (SCS) needs are and how to respond. Project team has established a leading role in the reform process and progress to date would not have made without their interventions. The recent 1st annual Social Services Conference showed the level of interest that has been generated in understanding better the needs of the sector. This should form good basis for capacity-building of municipalities going forward. In summary, the project is now on track and making good progress towards achieving its main objectives. We are encouraged by the degree of ownership over the underlying reforms observed from the main local stakeholders, but recognise that technical and managerial capacity will take time to build at both central and municipal level.
A13: If Indicator 2 is to be reported against, click on the '+' sign to the left of this worksheet
A14: Indicator 2 | C14: Quantitative and qualitative provision of high priority social care services by municipalities, including gender and ethnicity breakdown.
A15: Milestone for this review (if any) | C15: n/a
A16: What progress has been made in the period covered by this review? | C16: Baseline survey still being undertaken to determine current levels of provision of SCS and their quality. There have been delays due to problems with accessing relevant data e.g. Household Budget Survey held by SOK, but these have now been overcome. No data currently available on the gender and ethnicity breakdown of beneficiaries ...
A18: If Indicator 3 is to be reported against, click on the '+' sign to the left of this worksheet
A19: Indicator 3
A20: Milestone for this review (if any)
A21: What progress has been made in the period covered by this review?
A23: What evidence is there of progress made in the period covered by this review towards the Goal-level Target(s)? | C23: Targets for the respective Impact level indicators have not yet been established, due to data constraint. Appropriate targets should be set once quantitative analysis of service provision and coverage are completed in early 2012. See relevant outputs for specific action points to ensure that this work is widely disseminated to relevant local stakeholders. The recent conference on Social Service Delivery in Kosovo should be useful in identifying relevant local interest groups.
A25: Goal Recommendation 1 | C25: Work required to quantify expected levels of need (for main SCS), based on risk factor analysis of relevant populations, and then set appropriate targets for municipal coverage. NPAC has a key role in raising the awareness of relevant municipal officers (mayors, Directors of Budget, Directors of Health and Social Welfare, Heads of Social Welfare Units) to their new roles and responsibilities. The Department of Social Welfare in Ministry of Labour and Social Welfare (MLSW) needs to consider what role it can most usefully play in this new decentralised reality, combining a regulatory/ inspection function with providing positive support to the municipalities to manage the CSW's effectively.
A26: Goal Action Point 1 | C26: Team to complete quantitative survey and then propose specific service-delivery related indicators and targets for 2012 (and beyond).
A27: If more Recommendations or Action Points need to be identified, click the '+' box on the left-hand side.
A28: Goal Recommendation 2
A29: Goal Recommendation 3
A30: Goal Action Point 2
A31: Goal Action Point 3
A33: Purpose
A34: Project Purpose | C34: Improve the capabilities of municipalities and CSWs to deliver social care services to people in high priority need by strengthening management systems for the financial and administrative decentralisation of social care services
A36: Indicator 1 | C36: Availability of sufficient funding to enable the provision of social care services to people in the highest need
A37: Milestone for this review (if any) | C37: Maintenance of funding for decentralised care services for 2012 at least at 2010 levels, i.e. €1.9 million through specific or general grant
A38: What progress has been made in the period covered by this review? | C38: Work has commenced with pilot municipalities to strengthen their management of social care services and their relations with the Centres for Social Work (which are responsible for service delivery). This is being achieved mainly by working through the AKM and their related Collegia. The government has indicated that it has included €2.5 million in the General Grant to municipalities, within the 2012 budget, to cover their estimate of the recurrent costs of the Centres for Social Work (mainly staff salaries). There is no specific allocation for actual service provision, which compares to the €1 million provided as an earmarked grant in 2011. We thus have concerns about the insufficiency of overall funding to the sector in 2012 and whether this will further compromise existing levels of service delivery, given that there is as yet no evidence to that municipalities are considering allocating their own budgetary resources e.g. from own source revenues, to this sector..
A40: If Indicator 2 is to be reported against, click on the '+' sign to the left of this worksheet
A41: Indicator 2 | C41: Capacity of municipalities and Centres for Social Welfare to identify and meet high priority social care needs with available funding, including gender and ethnicity breakdown.
A42: Milestone for this review (if any) | C42: Qualitative service delivery survey provides baseline assessment of service provision
A43: What progress has been made in the period covered by this review? | C43: Qualitative service delivery survey is ongoing and is expected to be completed by December. In the mean time, the capacity of relevant Municipal departments is being built through project support to the AKM and relevant collegia (training programmes and workshops, including all municipalities). The project identified that municipalities should also be represented by heads of unit/ social welfare officers with the municipal DHSW in addition to directors. Once the survey data is available, we recommend that this is discussed with NPAC members, the municipalities and CSW in depth, as well as made available to a wider audience including civil society.
A45: If Indicator 3 is to be reported against, click on the '+' sign to the left of this worksheet
A46: Indicator 3
A47: Milestone for this review (if any)
A48: What progress has been made in the period covered by this review?
A50: If Indicator 4 is to be reported against, click on the '+' sign to the left of this worksheet
A51: Indicator 4
...

Sheet A2 Outputs 1-5
A1: A2: Outputs 1-5
A3: Output 1 | C3: National Policy Advisory Committee (NPAC) established and functioning to provide policy coherence between MLSW, MLGA, MEF and municipalities on social services to implement financial and administrative decentralisation of social care services.
A4: Impact Weight revised/needs revision? | C4: No
A5: If Yes, why was/is this?
A6: Original or Revised Impact Weight (%) | C6: 0.15
A8: Risk revised/needs revision? | C8: No
A9: If Yes, why was/is this?
A10: Original or Revised Risk | C10: Medium | E10: =IF(C10="High",1,IF(C10="Medium",2,IF(C10="Low",3,0))) -> 2
E11: =C6*E10 -> 0.3
A12: DFID Share revised/needs revision? | C12: No
A13: If Yes, why was/is this? | E13: 1
A14: Original or Revised DFID Share | C14: 1 | E14: 2
E15: 3
A16: Indicator 1 (leave blank if standard indicator) | C16: NPAC established and fully functional | E16: 4
A17: Is this a Standard Indicator? | C17: No | E17: 5
A18: Select standard indicator from drop down list | E18: 0
A19: Milestone for this review (including number, if any) | C19: NPAC to have met at least 6 times | E19: 0
A20: Progress made in the period covered by this review, including numbers. | C20: NPAC has been established and meeting regularly. Concept endorsed by all participants and valued as forum for inter-ministerial and municipality level discussion of key policy issues related to social services in Kosovo. Issue of remuneration of NPAC members for attendence has been resolved. Unsatisfactory participation from the Ministry of Finance, which is an issue of concern. DFID to raise this in review report.
A22: If Indicator 2 is required for this Output, click on the '+' sign to the left of this worksheet
A23: Indicator 2 (leave blank if standard indicator) | C23: Influence of NPAC decisions on the policy framework for the decentralisation of social care services.
A24: Is this a Standard Indicator? | C24: No
A25: Select standard indicator from drop down list | E25: 0
A26: Milestone for this review (including number, if any) | C26: NPAC case for transitional support for specific social service grant is adopted by MEF.
A27: Progress made in the period covered by this review, including numbers | C27: The proposal for a transitional budget arrangement, in form of a continued specific social services grant, was not accepted by MoF. However, this position had been made clear early in late 2010 as part of negotiations with the IMF over the 2011budget. The Ministry of Labour and Social Welfare thus was probably expecting this outcome. However, see below on prospects for the new budget formula being adopted in 2013
A29: If Indicator 3 is required for this Output, click on the '+' sign to the left of this worksheet
A30: Indicator 3 (leave blank if standard indicator) | C30: Competency of NPAC members to contribute to its objectives
A31: Is this a Standard Indicator? | C31: No
A32: Select standard indicator from drop down list | E32: 0
A33: Milestone for this review (including number, if any) | C33: 50% of identified development needs met
A34: Progress made in the period covered by this review, including numbers | C34: We do not currently have any evidence on which to base on assessment of the % of identified development needs met. This is a point for the project team to address - how will this indicator be monitored? However, it is clearly the case that various project activities, including regular meetings, training programmes and study tours have led to an observable improvement in the collective competency of the NPAC, based on reports of the project Team Leader, to provide good quality advice to government in this field. This was confirmed in meetings we held with MLSW and MLGA, as well as with AKM and the Collegia.
A36: If Indicator 4 is required for this Output, click on the '+' sign to the left of this worksheet
A37: Indicator 4 (leave blank if standard indicator)
A38: Is this a Standard Indicator?
A39: Select standard indicator from drop down list | E39: 0
A40: Milestone for this review (including number, if any)
A41: Progress made in the period covered by this review, including numbers
A43: If Indicator 5 is required for this Output, click on the '+' sign to the left of this worksheet
A44: Indicator 5 (leave blank if standard indicator)
A45: Is this a Standard Indicator?
A46: Select standard indicator from drop down list | E46: 0
...

Sheet A2 Outputs 6-10
A1: A3: Outputs 6-10
A3: If Output 6 is required, click on the '+' sign to the left of this worksheet
A4: Output 6
A5: Impact Weight revised/needs revision?
A6: If Yes, why was/is this?
A7: Original or Revised Impact Weight (%)
A9: Risk revised/needs revision?
A10: If Yes, why was/is this?
A11: Original or Revised Risk | E11: =IF(C11="High",1,IF(C11="Medium",2,IF(C11="Low",3,0))) -> 0
E12: =C7*E11 -> 0
A13: DFID Share revised/needs revision?
A14: If Yes, why was/is this?
A15: Original or Revised DFID Share
A17: Indicator 1 (leave blank if standard indicator)
A18: Is this a Standard Indicator?
A19: Select standard indicator from drop down list
A20: Milestone for this review (including number, if any)
A21: Progress made in the period covered by this review, including numbers
A23: If Indicator 2 is required for this Output, click on the '+' sign to the left of this worksheet
A24: Indicator 2 (leave blank if standard indicator)
A25: Is this a Standard Indicator?
A26: Select standard indicator from drop down list
... A56: Progress made in the period covered by this review, including numbers
A58: Output Performance for Output 6 | E58: =IF(C58=1,1,IF(C58=2,0.75,IF(C58=3,0.5,IF(C58=4,0.25,0)))) -> 0
A59: Impact Weighted Score | C59: =E58*C7*100 -> 0 | E59: =E58*C7 -> 0
A60: Justification for the Score
A62: Output 6 Recommendation 1
A63: Output 6 Action Point 1
A64: If more Recommendations or Action Points need to be identified, click the '+' box on the left-hand side.
A65: Output 6 Recommendation 2
A66: Output 6 Recommendation 3
A67: Output 6 Action Point 2
A68: Output 6 Action Point 3
A72: If Output 7 is required, click on the '+' sign to the left of this worksheet
A73: Output 7
A74: Impact Weight revised/needs revision?
A75: If Yes, why was/is this?
... A79: If Yes, why was/is this?
A80: Original or Revised Risk | E80: =IF(C80="High",1,IF(C80="Medium",2,IF(C80="Low",3,0))) -> 0
E81: =C76*E80 -> 0
...

Sheet B Project Scoring
A1: B: Project Scoring | F1: comments
A3: Review Date (dd/mm/yyyy) | C3: 40870
A5: Impact Weighting (must = 100) | C5: ='A2 Outputs 1-5'!C6+'A2 Outputs 1-5'!C75+'A2 Outputs 1-5'!C144+'A2 Outputs 1-5'!C213+'A2 Outputs 1-5'!C282+'A2 Outputs 6-10'!C7+'A2 Outputs 6-10'!C76+'A2 Outputs 6-10'!C145+'A2 Outputs 6-10'!C214+'A2 Outputs 6-10'!C283 -> 1
A6: Total Impact Score | C6: =E6*100 -> 75 | E6: ='A2 Outputs 1-5'!E58+'A2 Outputs 1-5'!E127+'A2 Outputs 1-5'!E196+'A2 Outputs 1-5'!E265+'A2 Outputs 1-5'!E334+'A2 Outputs 6-10'!E59+'A2 Outputs 6-10'!E128+'A2 Outputs 6-10'!E197+'A2 Outputs 6-10'!E266+'A2 Outputs 6-10'!E335 -> 0.75
A7: Output Risk | C7: =IF(E7<1.55,"High",IF(E7>2.5,"Low","Medium")) -> Medium | E7: ='A2 Outputs 1-5'!E11+'A2 Outputs 1-5'!E80+'A2 Outputs 1-5'!E149+'A2 Outputs 1-5'!E218+'A2 Outputs 1-5'!E287+'A2 Outputs 6-10'!E12+'A2 Outputs 6-10'!E81+'A2 Outputs 6-10'!E150+'A2 Outputs 6-10'!E219+'A2 Outputs 6-10'!E288 -> 1.75
A9: Method of Scoring: Sources of Information
A10: Using the drop-down menu for each box, enter "X" for each Source of Information used in the review.
A11: Quantitative data from national systems
A12: Quantitative data from project/programme study | C12: X
A13: Government assessment | C13: X
A14: Joint donor review
A15: Independent consultant review
A16: DFID staff review | C16: X
A18: Scoring Responsibility: Partners Involved
A19: Using the drop-down menu for each box, enter "X" to indicate Partners Involved in the review.
A20: National Government partner
A21: National non-Government partner
A22: Independent consultant | C22: X
A23: Donor partners
A24: DFID staff | C24: X
A26: Donor partners | C26: ECLO
C27: World Bank
C28: USAID
C29: GIZ (to be consulted)
C30: IMF
A34: Comment here on the Method of Scoring and Scoring Responsibility. | C34: Various partners above were consulted as part of this review. The review team also met with most members of the NPAC. The score assigned to each output is based on these consultations and has been made by the review team members and verified with the project implementation team. Ultimate responsibility for the scoring and assessments made in this review rests with the DFID Review Team.
A36: Scoring Recommendation 1
A37: Scoring Action Point 1
A38: If more Recommendations or Action Points need to be identified, click the '+' box on the left-hand side.
A39: Scoring Recommendation 2
A40: Scoring Recommendation 3
A41: Scoring Action Point 2
A42: Scoring Action Point 3

Sheet C Knowledge & Evidence
A1: C: Knowledge Sharing and Evidence
A3: Lesson category
A4: 1. Working with partners | C4: This will be more relevant at end of project - to review our success in ensuring sustainability of support to the underlying reform process by cooperation with other donor partners - and particularly with the planned EC IPA project.
A6: Working with Partners Recommendation 1
A7: Working with Partners Action Point 1
A8: If more Recommendations or Action Points need to be identified, click the '+' box on the left-hand side.
A9: Working with Partners Recommendation 2
A10: Working with Partners Recommendation 3
A11: Working with Partners Action Point 2
A12: Working with Partners Action Point 3
A14: 2. Best Practice / Innovation | C14: Excellent use of technical analysis to inform a complex and politically sensitive reform process. Good example of how evidence-based policy making can be put into practice. We plan to share some of the technical work undertaken e.g unit cost analysis with other DFID teams and country offices.
A16: Best Practice / Innovation Recommendation 1
A17: Best Practice / Innovation Action Point 1
A18: If more Recommendations or Action Points need to be identified, click the '+' box on the left-hand side.
A19: Best Practice / Innovation Recommendation 2
A20: Best Practice / Innovation Recommendation 3
A21: Best Practice / Innovation Action Point 2
A22: Best Practice / Innovation Action Point 3
A24: 3. Project Management | C24: Good working relationship between DFID Kosovo and the project team has meant that various issues with effective project management have been addressed and resolved in a timely manner.
A26: Project Management Recommendation 1
A27: Project Management Action Point 1
A28: If more Recommendations or Action Points need to be identified, click the '+' box on the left-hand side.
A29: Project Management Recommendation 2
A30: Project Management Recommendation 3
A31: Project Management Action Point 2
A32: Project Management Action Point 3
A34: Other Comments
A35: If appropriate, comment on the effectiveness of the institutional relationships created or enhanced by the project, e.g., comment on processes and how relationships have evolved.
A37: Key issues, points of information or additional comments that may be useful for this or other project teams. | C37: We would suggest that all key project outputs are made available as a package to DFID internal audiences and also consider lodging these with a data library e.g. at IDS in Sussex to allow access to this information by researchers and analysts.
A39: Other Recommendation 1
A40: Other Action Point 1
A41: If more Recommendations or Action Points need to be identified, click the '+' box on the left-hand side.
A42: Other Recommendation 2
A43: Other Recommendation 3
A44: Other Action Point 2
A45: Other Action Point 3
A47: Evidence: Key documents
A48: Quest No.
C49: To be included/ completed - most key docs already in Quest
A60: Evidence Recommendation 1 | C60: See above
...

Sheet D Conditionality Sustainability
A1: D: Conditionality and Sustainability
A3: Conditionality
A4: If conditions are attached to this project, was disbursement suspended during the review period because of the conditions? | C4: No
A6: If Yes, what was the cause?
A8: Date Suspended (dd/mm/yyyy)?
A10: What were the consequences?
A12: Conditionality Recommendation 1
A13: Conditionality Action Point 1
A14: If more Recommendations or Action Points need to be identified, click the '+' box on the left-hand side.
A15: Conditionality Recommendation 2
A16: Conditionality Recommendation 3
A17: Conditionality Action Point 2
A18: Conditionality Action Point 3
A21: Sustainability
A22: Comment on how likely is it that the benefits arising from this project will be sustained after the end of project. | C22: This is specifically addressed in Output 5 of the project
A24: Sustainability Recommendation 1
A25: Sustainability Action Point 1
A26: If more Recommendations or Action Points need to be identified, click the '+' box on the left-hand side.
A27: Sustainability Recommendation 2
A28: Sustainability Recommendation 3
A29: Sustainability Action Point 2
A30: Sustainability Action Point 3

Sheet E Recommendations & Actions
A1: E: Recommendations and Action Points
A3: Recommendations | C3: Person / team who will action the recommendation
A4: A1: Goal
A5: R1 | B5: ='A1 Goal, Purpose, Risk'!C25 -> Work required to quantify expected levels of need (for main SCS), based on risk factor analysis of relevant populations, and then set appropriate targets for municipal coverage. NPAC has a key role in raising the awareness of relevant municipal officers (mayors, Directors of Budget, Directors of Health and Social Welfare, Heads of Social Welfare Units) to their new roles and responsibilities. The Department of Social Welfare in Ministry of Labour and Social Welfare (MLSW) needs to consider what role it can most usefully play in this new decentralised reality, combining a regulatory/ inspection function with providing positive support to the municipalities to manage the CSW's effectively. | C5: Project team/ NPAC
A6: R2 | B6: ='A1 Goal, Purpose, Risk'!C28 -> 0
A7: R3 | B7: ='A1 Goal, Purpose, Risk'!C29 -> 0
A8: A1: Purpose
A9: R1 | B9: See recommendations in accompanying Note on Main Outcomes of the Annual Review. These focus on the need for (a) a clear Communication Strategy for the project and the underlying reform process, to be agreed with NPAC; (b) a specific proposal from the project on a data needs and data management plan; (c) further consideration by NPAC of the non-goverment sources of financial and other support to the sector; (d) building on regional linkages and integrating Kosovo into EU networks on social care and social service delivery and (e) carefully managing risks of changes to key team members. | C9: Project team/ NPAC
A10: R2 | B10: ='A1 Goal, Purpose, Risk'!C74 -> 0
A11: R3 | B11: ='A1 Goal, Purpose, Risk'!C75 -> 0
A12: A1: Risk
A13: R1 | B13: ='A1 Goal, Purpose, Risk'!C101 -> Risk of budget formula for 2013 not being implemented in a timely or complete way by the Ministry of Finance (when calculating the size and share of the General Grant required for SCS delivery) and by the municipalities (when deciding what % of their total revenues to allocate to this sector). We thus recommend that the risk rating from this output is increased from medium to high. | C13: DFID - revised logframe
A14: R2 | B14: ='A1 Goal, Purpose, Risk'!C104 -> 0
A15: R3 | B15: ='A1 Goal, Purpose, Risk'!C105 -> 0
A16: A1: Logframe
A17: R1 | B17: Project team to address the issue of including baseline data and milestones/ targets for relevant indicators and provide DFID with an updated logframe by end December 2011.
A18: R2 | B18: ='A1 Goal, Purpose, Risk'!C115 -> 0
A19: R3 | B19: ='A1 Goal, Purpose, Risk'!C116 -> 0
A20: A1: DSOs
A21: R1 | B21: ='A1 Goal, Purpose, Risk'!C122 -> 0
A22: R2 | B22: ='A1 Goal, Purpose, Risk'!C125 -> 0
A23: R3 | B23: ='A1 Goal, Purpose, Risk'!C126 -> 0
A24: A1: Cross-Cutting Markers
A25: R1 | B25: ='A1 Goal, Purpose, Risk'!C132 -> 0
A26: R2 | B26: ='A1 Goal, Purpose, Risk'!C135 -> 0
A27: R3 | B27: ='A1 Goal, Purpose, Risk'!C136 -> 0
A29: A2: Outputs
A30: R1.1 | B30: ='A2 Outputs 1-5'!C61 -> Finalise a training needs assessment for NPAC members and monitor progress with implementing this over 2012.
A31: R1.2 | B31: ='A2 Outputs 1-5'!C64 -> 0
A32: R1.3 | B32: ='A2 Outputs 1-5'!C65 -> 0
A33: R2.1 | B33: ='A2 Outputs 1-5'!C130 -> Project Team Actions include: (i) Ensuring that Mayors who sit on the Grants Commission are sensitised to, and made aware of, the gaps and omissions in current funding and the need to prioritise/ring fence social services within the General Grant; (II) Brief IMF team and share project analysis with IMF Municipal Finance Team; (iii) draw World Bank attention to the inter-relationship between social assistance and social services at the level of core funding requirements for Centres for Social Welfare.
A34: R2.2 | B34: Action points for DFID include (1) follow up discussion with MoF on engagement of the Municipal Finance Dept in the NPAC, (2) some preliminary discussions with the Budget Director about the budget formula for 2013 and what format would be most useful to guide MoF thinking, (3) to flag this as an issue of concern to DFID to the IMF mission dealing with Municipal Financing issues, (4) to maintain a close contact with both ECLO and the World Bank on the issue of overall financial needs of the sector, (5) to disseminate some of the unit cost analysis for Kosovo to other DFID teams working on similar issues in other countries.
A35: R2.3 | B35: ='A2 Outputs 1-5'!C134 -> 0
A36: R3.1 | B36: ='A2 Outputs 1-5'!C199 -> It will be important to focus on completion and adoption of the Strategic Vision for social care service provision in Kosovo by NPAC as early as possible in 2012. This can then form the basis for ongoing capacity development work, but also for more focused discussions with GoK and other donors about the ongoing external support needs of the sector.
A37: R3.2 | B37: ='A2 Outputs 1-5'!C202 -> 0
A38: R3.3 | B38: ='A2 Outputs 1-5'!C203 -> 0
A39: R4.1 | B39: ='A2 Outputs 1-5'!C268 -> AKM to continue working closely with the collegia members to build on achievements to date. Ensure more leadership of MLSW in organisation of the next Social Service Conference.
A40: R4.2 | B40: ='A2 Outputs 1-5'!C271 -> 0
A41: R4.3 | B41: ='A2 Outputs 1-5'!C272 -> 0
A42: R5.1 | B42: ='A2 Outputs 1-5'!C337 -> DFID Kosovo will take forward further discussions with ECLO, GIZ and other relevant partners (e.g. UNICEF), within context of the sector working groups, on project and reform sustainability beyond 2012. This will be more fruitful once the Government's overall strategy for the sector becomes clearer in early 2012. We have also discussed with MLSW the need for donors to have a collective meeting with Government to discuss the range of ongoing needs for support to the sector. We want to used DFID's trusted position to ensure greater alignment and harmonisation.
...
